Package: rrvgo Version: 1.21.1 Command: rm -rf rrvgo.buildbin-libdir && mkdir rrvgo.buildbin-libdir && /Users/biocbuild/BBS/utils/build-universal.sh rrvgo_1.21.1.tar.gz /Library/Frameworks/R.framework/Resources/bin/R rrvgo.buildbin-libdir StartedAt: 2025-07-22 22:38:27 -0400 (Tue, 22 Jul 2025) EndedAt: 2025-07-22 22:38:36 -0400 (Tue, 22 Jul 2025) EllapsedTime: 9.2 seconds RetCode: 0 Status: OK PackageFile: rrvgo_1.21.1.tgz PackageFileSize: 1.402 MiB