Package: rqubic Version: 1.55.0 Command: /home/biocbuild/R/R/bin/R CMD INSTALL rqubic StartedAt: 2025-07-14 20:24:36 -0000 (Mon, 14 Jul 2025) EndedAt: 2025-07-14 20:24:52 -0000 (Mon, 14 Jul 2025) EllapsedTime: 15.8 seconds RetCode: 0 Status: OK