Package: rqubic Version: 1.55.0 Command: chmod a+r rqubic -R && F:\biocbuild\bbs-3.22-bioc\R\bin\R.exe CMD build --keep-empty-dirs --no-resave-data rqubic StartedAt: 2025-07-20 21:43:37 -0400 (Sun, 20 Jul 2025) EndedAt: 2025-07-20 21:44:36 -0400 (Sun, 20 Jul 2025) EllapsedTime: 58.6 seconds RetCode: 0 Status: OK PackageFile: rqubic_1.55.0.tar.gz PackageFileSize: 189.5 KiB