Package: rqubic Version: 1.55.0 Command: rm -rf rqubic.buildbin-libdir && mkdir rqubic.buildbin-libdir && F:\biocbuild\bbs-3.22-bioc\R\bin\R.exe CMD INSTALL --build --library=rqubic.buildbin-libdir rqubic_1.55.0.tar.gz StartedAt: 2025-07-21 09:56:03 -0400 (Mon, 21 Jul 2025) EndedAt: 2025-07-21 09:56:58 -0400 (Mon, 21 Jul 2025) EllapsedTime: 55.6 seconds RetCode: 0 Status: OK PackageFile: rqubic_1.55.0.zip PackageFileSize: 437.5 KiB