Package: rqubic Version: 1.55.0 Command: /home/biocbuild/bbs-3.22-bioc/R/bin/R CMD INSTALL rqubic StartedAt: 2025-07-04 15:10:36 -0400 (Fri, 04 Jul 2025) EndedAt: 2025-07-04 15:10:44 -0400 (Fri, 04 Jul 2025) EllapsedTime: 8.5 seconds RetCode: 0 Status: OK