Package: rqubic Version: 1.55.0 Command: /home/biocbuild/bbs-3.22-bioc/R/bin/R CMD check --install=check:rqubic.install-out.txt --library=/home/biocbuild/bbs-3.22-bioc/R/site-library --timings rqubic_1.55.0.tar.gz StartedAt: 2025-07-07 01:51:22 -0400 (Mon, 07 Jul 2025) EndedAt: 2025-07-07 01:52:23 -0400 (Mon, 07 Jul 2025) EllapsedTime: 61.1 seconds RetCode: 0 Status: WARNINGS CheckDir: rqubic.Rcheck Warnings: 1