Package: rqt Version: 1.35.0 Command: /Library/Frameworks/R.framework/Resources/bin/R CMD INSTALL rqt StartedAt: 2025-10-03 15:13:39 -0400 (Fri, 03 Oct 2025) EndedAt: 2025-10-03 15:13:50 -0400 (Fri, 03 Oct 2025) EllapsedTime: 11.0 seconds RetCode: 0 Status: OK