Package: rpx Version: 2.17.0 Command: /Library/Frameworks/R.framework/Resources/bin/R CMD check --install=check:rpx.install-out.txt --library=/Library/Frameworks/R.framework/Resources/library --no-vignettes --timings rpx_2.17.0.tar.gz StartedAt: 2025-07-21 23:17:17 -0400 (Mon, 21 Jul 2025) EndedAt: 2025-07-21 23:18:19 -0400 (Mon, 21 Jul 2025) EllapsedTime: 62.1 seconds RetCode: 1 Status: ERROR CheckDir: rpx.Rcheck Warnings: NA