Package: rpx Version: 2.17.0 Command: rm -rf rpx.buildbin-libdir && mkdir rpx.buildbin-libdir && /Users/biocbuild/BBS/utils/build-universal.sh rpx_2.17.0.tar.gz /Library/Frameworks/R.framework/Resources/bin/R rpx.buildbin-libdir StartedAt: 2025-07-21 01:22:45 -0400 (Mon, 21 Jul 2025) EndedAt: 2025-07-21 01:22:56 -0400 (Mon, 21 Jul 2025) EllapsedTime: 11.5 seconds RetCode: 0 Status: OK PackageFile: rpx_2.17.0.tgz PackageFileSize: 486.9 KiB