Package: rprimer Version: 1.13.0 Command: /home/biocbuild/R/R/bin/R CMD check --install=check:rprimer.install-out.txt --library=/home/biocbuild/R/R/site-library --no-vignettes --timings rprimer_1.13.0.tar.gz StartedAt: 2025-07-18 10:38:56 -0000 (Fri, 18 Jul 2025) EndedAt: 2025-07-18 10:42:58 -0000 (Fri, 18 Jul 2025) EllapsedTime: 242.3 seconds RetCode: 0 Status: OK CheckDir: rprimer.Rcheck Warnings: 0