Package: rprimer Version: 1.13.0 Command: rm -rf rprimer.buildbin-libdir && mkdir rprimer.buildbin-libdir && F:\biocbuild\bbs-3.22-bioc\R\bin\R.exe CMD INSTALL --build --library=rprimer.buildbin-libdir rprimer_1.13.0.tar.gz StartedAt: 2025-07-21 09:55:42 -0400 (Mon, 21 Jul 2025) EndedAt: 2025-07-21 09:56:45 -0400 (Mon, 21 Jul 2025) EllapsedTime: 62.3 seconds RetCode: 0 Status: OK PackageFile: rprimer_1.13.0.zip PackageFileSize: 1.649 MiB