Package: rprimer Version: 1.13.0 Command: /home/biocbuild/bbs-3.22-bioc/R/bin/R CMD INSTALL rprimer StartedAt: 2025-06-27 15:28:26 -0400 (Fri, 27 Jun 2025) EndedAt: 2025-06-27 15:28:44 -0400 (Fri, 27 Jun 2025) EllapsedTime: 17.9 seconds RetCode: 0 Status: OK