Package: rprimer Version: 1.13.0 Command: /Library/Frameworks/R.framework/Resources/bin/R CMD INSTALL rprimer StartedAt: 2025-07-11 15:26:04 -0400 (Fri, 11 Jul 2025) EndedAt: 2025-07-11 15:26:29 -0400 (Fri, 11 Jul 2025) EllapsedTime: 24.6 seconds RetCode: 0 Status: OK