Package: ropls Version: 1.41.0 Command: /home/biocbuild/R/R/bin/R CMD INSTALL ropls StartedAt: 2025-07-10 21:26:32 -0000 (Thu, 10 Jul 2025) EndedAt: 2025-07-10 21:27:10 -0000 (Thu, 10 Jul 2025) EllapsedTime: 37.7 seconds RetCode: 0 Status: OK