Package: ropls Version: 1.41.0 Command: /home/biocbuild/R/R/bin/R CMD check --install=check:ropls.install-out.txt --library=/home/biocbuild/R/R/site-library --no-vignettes --timings ropls_1.41.0.tar.gz StartedAt: 2025-07-11 11:46:04 -0000 (Fri, 11 Jul 2025) EndedAt: 2025-07-11 11:50:56 -0000 (Fri, 11 Jul 2025) EllapsedTime: 292.4 seconds RetCode: 0 Status: OK CheckDir: ropls.Rcheck Warnings: 0