Package: ropls Version: 1.41.0 Command: /home/biocbuild/R/R/bin/R CMD build --keep-empty-dirs --no-resave-data ropls StartedAt: 2025-07-11 03:32:30 -0000 (Fri, 11 Jul 2025) EndedAt: 2025-07-11 03:34:08 -0000 (Fri, 11 Jul 2025) EllapsedTime: 97.1 seconds RetCode: 0 Status: OK PackageFile: ropls_1.41.0.tar.gz PackageFileSize: 4.518 MiB