Package: ropls Version: 1.41.0 Command: F:\biocbuild\bbs-3.22-bioc\R\bin\R.exe CMD check --no-multiarch --install=check:ropls.install-out.txt --library=F:\biocbuild\bbs-3.22-bioc\R\library --no-vignettes --timings ropls_1.41.0.tar.gz StartedAt: 2025-07-21 06:03:52 -0400 (Mon, 21 Jul 2025) EndedAt: 2025-07-21 06:08:17 -0400 (Mon, 21 Jul 2025) EllapsedTime: 264.4 seconds RetCode: 0 Status: OK CheckDir: ropls.Rcheck Warnings: 0