Package: ropls Version: 1.41.0 Command: chmod a+r ropls -R && F:\biocbuild\bbs-3.22-bioc\R\bin\R.exe CMD build --keep-empty-dirs --no-resave-data ropls StartedAt: 2025-07-20 21:41:54 -0400 (Sun, 20 Jul 2025) EndedAt: 2025-07-20 21:43:45 -0400 (Sun, 20 Jul 2025) EllapsedTime: 111.2 seconds RetCode: 0 Status: OK PackageFile: ropls_1.41.0.tar.gz PackageFileSize: 4.048 MiB