Package: ropls Version: 1.41.0 Command: /Library/Frameworks/R.framework/Resources/bin/R CMD check --install=check:ropls.install-out.txt --library=/Library/Frameworks/R.framework/Resources/library --no-vignettes --timings ropls_1.41.0.tar.gz StartedAt: 2025-07-15 23:21:00 -0400 (Tue, 15 Jul 2025) EndedAt: 2025-07-15 23:25:23 -0400 (Tue, 15 Jul 2025) EllapsedTime: 262.9 seconds RetCode: 0 Status: OK CheckDir: ropls.Rcheck Warnings: 0