Package: ropls Version: 1.41.0 Command: /Library/Frameworks/R.framework/Resources/bin/R CMD build --keep-empty-dirs --no-resave-data ropls StartedAt: 2025-07-01 17:24:15 -0400 (Tue, 01 Jul 2025) EndedAt: 2025-07-01 17:24:42 -0400 (Tue, 01 Jul 2025) EllapsedTime: 27.3 seconds RetCode: 0 Status: OK PackageFile: ropls_1.41.0.tar.gz PackageFileSize: 5.545 MiB