Package: rols Version: 3.5.0 Command: /Library/Frameworks/R.framework/Resources/bin/R CMD build --keep-empty-dirs --no-resave-data rols StartedAt: 2025-10-10 17:32:48 -0400 (Fri, 10 Oct 2025) EndedAt: 2025-10-10 17:32:53 -0400 (Fri, 10 Oct 2025) EllapsedTime: 5.1 seconds RetCode: 1 Status: ERROR PackageFile: None PackageFileSize: NA