Package: roastgsa Version: 1.7.0 Command: /home/biocbuild/bbs-3.22-bioc/R/bin/R CMD INSTALL roastgsa StartedAt: 2025-07-14 15:13:02 -0400 (Mon, 14 Jul 2025) EndedAt: 2025-07-14 15:13:09 -0400 (Mon, 14 Jul 2025) EllapsedTime: 7.0 seconds RetCode: 0 Status: OK