Package: roastgsa Version: 1.7.0 Command: /home/biocbuild/bbs-3.22-bioc/R/bin/R CMD build --keep-empty-dirs --no-resave-data --md5 roastgsa StartedAt: 2025-07-14 18:55:31 -0400 (Mon, 14 Jul 2025) EndedAt: 2025-07-14 18:56:49 -0400 (Mon, 14 Jul 2025) EllapsedTime: 78.0 seconds RetCode: 0 Status: OK PackageFile: roastgsa_1.7.0.tar.gz PackageFileSize: 2.036 MiB