Package: roastgsa Version: 1.7.0 Command: /Library/Frameworks/R.framework/Resources/bin/R CMD INSTALL roastgsa StartedAt: 2025-07-24 15:26:23 -0400 (Thu, 24 Jul 2025) EndedAt: 2025-07-24 15:26:41 -0400 (Thu, 24 Jul 2025) EllapsedTime: 18.6 seconds RetCode: 0 Status: OK