Package: roastgsa Version: 1.7.0 Command: /Library/Frameworks/R.framework/Resources/bin/R CMD INSTALL roastgsa StartedAt: 2025-07-24 15:17:27 -0400 (Thu, 24 Jul 2025) EndedAt: 2025-07-24 15:17:30 -0400 (Thu, 24 Jul 2025) EllapsedTime: 3.0 seconds RetCode: 0 Status: OK