Package: roar Version: 1.45.0 Command: chmod a+r roar -R && F:\biocbuild\bbs-3.22-bioc\R\bin\R.exe CMD build --keep-empty-dirs --no-resave-data roar StartedAt: 2025-08-14 22:50:42 -0400 (Thu, 14 Aug 2025) EndedAt: 2025-08-14 22:53:20 -0400 (Thu, 14 Aug 2025) EllapsedTime: 158.2 seconds RetCode: 0 Status: OK PackageFile: roar_1.45.0.tar.gz PackageFileSize: 720.4 KiB