Package: roar Version: 1.45.0 Command: rm -rf roar.buildbin-libdir && mkdir roar.buildbin-libdir && F:\biocbuild\bbs-3.22-bioc\R\bin\R.exe CMD INSTALL --build --library=roar.buildbin-libdir roar_1.45.0.tar.gz StartedAt: 2025-08-15 11:10:12 -0400 (Fri, 15 Aug 2025) EndedAt: 2025-08-15 11:11:05 -0400 (Fri, 15 Aug 2025) EllapsedTime: 53.4 seconds RetCode: 0 Status: OK PackageFile: roar_1.45.0.zip PackageFileSize: 1.057 MiB