Package: roar Version: 1.45.0 Command: /home/biocbuild/bbs-3.22-bioc/R/bin/R CMD INSTALL roar StartedAt: 2025-10-10 15:45:44 -0400 (Fri, 10 Oct 2025) EndedAt: 2025-10-10 15:46:16 -0400 (Fri, 10 Oct 2025) EllapsedTime: 31.3 seconds RetCode: 0 Status: OK