Package: roar Version: 1.45.0 Command: /Library/Frameworks/R.framework/Resources/bin/R CMD INSTALL roar StartedAt: 2025-10-10 15:20:17 -0400 (Fri, 10 Oct 2025) EndedAt: 2025-10-10 15:20:30 -0400 (Fri, 10 Oct 2025) EllapsedTime: 13.5 seconds RetCode: 0 Status: OK