Package: rnaseqcomp Version: 1.39.0 Command: /home/biocbuild/R/R/bin/R CMD INSTALL rnaseqcomp StartedAt: 2025-06-26 20:12:29 -0000 (Thu, 26 Jun 2025) EndedAt: 2025-06-26 20:13:00 -0000 (Thu, 26 Jun 2025) EllapsedTime: 31.3 seconds RetCode: 0 Status: OK