Package: rnaseqcomp Version: 1.39.0 Command: /home/biocbuild/R/R/bin/R CMD build --keep-empty-dirs --no-resave-data rnaseqcomp StartedAt: 2025-06-27 02:10:28 -0000 (Fri, 27 Jun 2025) EndedAt: 2025-06-27 02:10:52 -0000 (Fri, 27 Jun 2025) EllapsedTime: 24.0 seconds RetCode: 0 Status: OK PackageFile: rnaseqcomp_1.39.0.tar.gz PackageFileSize: 1.362 MiB