Package: rnaseqcomp Version: 1.39.0 Command: /Library/Frameworks/R.framework/Resources/bin/R CMD build --keep-empty-dirs --no-resave-data rnaseqcomp StartedAt: 2025-07-01 18:20:02 -0400 (Tue, 01 Jul 2025) EndedAt: 2025-07-01 18:20:26 -0400 (Tue, 01 Jul 2025) EllapsedTime: 24.0 seconds RetCode: 0 Status: OK PackageFile: rnaseqcomp_1.39.0.tar.gz PackageFileSize: 1.531 MiB