Package: rnaseqcomp Version: 1.39.0 Command: rm -rf rnaseqcomp.buildbin-libdir && mkdir rnaseqcomp.buildbin-libdir && /Users/biocbuild/BBS/utils/build-universal.sh rnaseqcomp_1.39.0.tar.gz /Library/Frameworks/R.framework/Resources/bin/R rnaseqcomp.buildbin-libdir StartedAt: 2025-07-02 01:16:11 -0400 (Wed, 02 Jul 2025) EndedAt: 2025-07-02 01:16:18 -0400 (Wed, 02 Jul 2025) EllapsedTime: 6.8 seconds RetCode: 0 Status: OK PackageFile: rnaseqcomp_1.39.0.tgz PackageFileSize: 1.698 MiB