Package: rnaEditr Version: 1.19.0 Command: /home/biocbuild/R/R/bin/R CMD check --install=check:rnaEditr.install-out.txt --library=/home/biocbuild/R/R/site-library --no-vignettes --timings rnaEditr_1.19.0.tar.gz StartedAt: 2025-07-18 10:32:24 -0000 (Fri, 18 Jul 2025) EndedAt: 2025-07-18 10:38:10 -0000 (Fri, 18 Jul 2025) EllapsedTime: 345.3 seconds RetCode: 0 Status: WARNINGS CheckDir: rnaEditr.Rcheck Warnings: 1