Package: rnaEditr Version: 1.19.0 Command: /Library/Frameworks/R.framework/Resources/bin/R CMD build --keep-empty-dirs --no-resave-data rnaEditr StartedAt: 2025-07-01 17:22:53 -0400 (Tue, 01 Jul 2025) EndedAt: 2025-07-01 17:23:17 -0400 (Tue, 01 Jul 2025) EllapsedTime: 24.3 seconds RetCode: 0 Status: OK PackageFile: rnaEditr_1.19.0.tar.gz PackageFileSize: 1.085 MiB