Package: rmspc Version: 1.15.0 Command: F:\biocbuild\bbs-3.22-bioc\R\bin\R.exe CMD INSTALL rmspc StartedAt: 2025-07-24 16:35:11 -0400 (Thu, 24 Jul 2025) EndedAt: 2025-07-24 16:35:44 -0400 (Thu, 24 Jul 2025) EllapsedTime: 33.1 seconds RetCode: 0 Status: OK