Package: rmspc Version: 1.15.0 Command: chmod a+r rmspc -R && F:\biocbuild\bbs-3.22-bioc\R\bin\R.exe CMD build --keep-empty-dirs --no-resave-data rmspc StartedAt: 2025-07-24 21:53:03 -0400 (Thu, 24 Jul 2025) EndedAt: 2025-07-24 21:54:07 -0400 (Thu, 24 Jul 2025) EllapsedTime: 64.1 seconds RetCode: 0 Status: OK PackageFile: rmspc_1.15.0.tar.gz PackageFileSize: 2.177 MiB