Package: rmelting Version: 1.25.0 Command: F:\biocbuild\bbs-3.22-bioc\R\bin\R.exe CMD check --no-multiarch --install=check:rmelting.install-out.txt --library=F:\biocbuild\bbs-3.22-bioc\R\library --no-vignettes --timings rmelting_1.25.0.tar.gz StartedAt: 2025-07-18 05:50:19 -0400 (Fri, 18 Jul 2025) EndedAt: 2025-07-18 05:51:18 -0400 (Fri, 18 Jul 2025) EllapsedTime: 58.7 seconds RetCode: 0 Status: OK CheckDir: rmelting.Rcheck Warnings: 0