Package: rmelting Version: 1.25.0 Command: /Library/Frameworks/R.framework/Resources/bin/R CMD INSTALL rmelting StartedAt: 2025-07-15 15:17:56 -0400 (Tue, 15 Jul 2025) EndedAt: 2025-07-15 15:18:26 -0400 (Tue, 15 Jul 2025) EllapsedTime: 30.2 seconds RetCode: 0 Status: OK