Package: rigvf Version: 1.1.2 Command: F:\biocbuild\bbs-3.22-bioc\R\bin\R.exe CMD INSTALL rigvf StartedAt: 2025-07-24 15:55:28 -0400 (Thu, 24 Jul 2025) EndedAt: 2025-07-24 15:55:44 -0400 (Thu, 24 Jul 2025) EllapsedTime: 15.9 seconds RetCode: 0 Status: OK