Package: rigvf Version: 1.1.2 Command: /Library/Frameworks/R.framework/Resources/bin/R CMD INSTALL rigvf StartedAt: 2025-07-16 15:10:09 -0400 (Wed, 16 Jul 2025) EndedAt: 2025-07-16 15:10:14 -0400 (Wed, 16 Jul 2025) EllapsedTime: 4.7 seconds RetCode: 0 Status: OK