Package: rigvf Version: 1.1.2 Command: /Library/Frameworks/R.framework/Resources/bin/R CMD check --install=check:rigvf.install-out.txt --library=/Library/Frameworks/R.framework/Resources/library --no-vignettes --timings rigvf_1.1.2.tar.gz StartedAt: 2025-07-14 21:03:23 -0400 (Mon, 14 Jul 2025) EndedAt: 2025-07-14 21:04:07 -0400 (Mon, 14 Jul 2025) EllapsedTime: 43.5 seconds RetCode: 0 Status: OK CheckDir: rigvf.Rcheck Warnings: 0