Package: rigvf Version: 1.1.2 Command: rm -rf rigvf.buildbin-libdir && mkdir rigvf.buildbin-libdir && /Users/biocbuild/BBS/utils/build-universal.sh rigvf_1.1.2.tar.gz /Library/Frameworks/R.framework/Resources/bin/R rigvf.buildbin-libdir StartedAt: 2025-07-14 22:32:02 -0400 (Mon, 14 Jul 2025) EndedAt: 2025-07-14 22:32:08 -0400 (Mon, 14 Jul 2025) EllapsedTime: 6.1 seconds RetCode: 0 Status: OK PackageFile: rigvf_1.1.2.tgz PackageFileSize: 246.4 KiB