Package: rifiComparative Version: 1.9.0 Command: /home/biocbuild/R/R/bin/R CMD INSTALL rifiComparative StartedAt: 2025-07-14 20:45:06 -0000 (Mon, 14 Jul 2025) EndedAt: 2025-07-14 20:45:49 -0000 (Mon, 14 Jul 2025) EllapsedTime: 42.9 seconds RetCode: 0 Status: OK