Package: rifi Version: 1.13.1 Command: /Library/Frameworks/R.framework/Resources/bin/R CMD check --install=check:rifi.install-out.txt --library=/Library/Frameworks/R.framework/Resources/library --no-vignettes --timings rifi_1.13.1.tar.gz StartedAt: 2025-07-22 23:14:27 -0400 (Tue, 22 Jul 2025) EndedAt: 2025-07-22 23:25:50 -0400 (Tue, 22 Jul 2025) EllapsedTime: 682.6 seconds RetCode: 0 Status: WARNINGS CheckDir: rifi.Rcheck Warnings: 2