Package: rifi Version: 1.13.1 Command: /Library/Frameworks/R.framework/Resources/bin/R CMD check --install=check:rifi.install-out.txt --library=/Library/Frameworks/R.framework/Resources/library --no-vignettes --timings rifi_1.13.1.tar.gz StartedAt: 2025-07-23 21:06:22 -0400 (Wed, 23 Jul 2025) EndedAt: 2025-07-23 21:09:55 -0400 (Wed, 23 Jul 2025) EllapsedTime: 212.7 seconds RetCode: 0 Status: WARNINGS CheckDir: rifi.Rcheck Warnings: 2