Package: ribosomeProfilingQC Version: 1.21.1 Command: F:\biocbuild\bbs-3.22-bioc\R\bin\R.exe CMD INSTALL ribosomeProfilingQC StartedAt: 2025-07-14 16:46:44 -0400 (Mon, 14 Jul 2025) EndedAt: 2025-07-14 16:48:34 -0400 (Mon, 14 Jul 2025) EllapsedTime: 109.2 seconds RetCode: 0 Status: OK