Package: ribosomeProfilingQC Version: 1.21.1 Command: F:\biocbuild\bbs-3.22-bioc\R\bin\R.exe CMD check --no-multiarch --install=check:ribosomeProfilingQC.install-out.txt --library=F:\biocbuild\bbs-3.22-bioc\R\library --no-vignettes --timings ribosomeProfilingQC_1.21.1.tar.gz StartedAt: 2025-07-15 05:48:50 -0400 (Tue, 15 Jul 2025) EndedAt: 2025-07-15 05:59:06 -0400 (Tue, 15 Jul 2025) EllapsedTime: 615.4 seconds RetCode: 0 Status: OK CheckDir: ribosomeProfilingQC.Rcheck Warnings: 0