Package: ribor Version: 1.21.0 Command: /home/biocbuild/R/R/bin/R CMD INSTALL ribor StartedAt: 2025-07-14 20:26:39 -0000 (Mon, 14 Jul 2025) EndedAt: 2025-07-14 20:26:54 -0000 (Mon, 14 Jul 2025) EllapsedTime: 14.6 seconds RetCode: 0 Status: OK