Package: ribor Version: 1.21.0 Command: /home/biocbuild/R/R/bin/R CMD check --install=check:ribor.install-out.txt --library=/home/biocbuild/R/R/site-library --no-vignettes --timings ribor_1.21.0.tar.gz StartedAt: 2025-07-15 11:06:49 -0000 (Tue, 15 Jul 2025) EndedAt: 2025-07-15 11:08:49 -0000 (Tue, 15 Jul 2025) EllapsedTime: 120.1 seconds RetCode: 0 Status: OK CheckDir: ribor.Rcheck Warnings: 0